BEGIN:VCALENDAR
VERSION:2.0
CALSCALE:GREGORIAN
PRODID:-//Diputació de Barcelona//DibaCMS//EN
BEGIN:VEVENT
UID:8765
DTSTAMP:20260420T183337
DTSTART:20260423T100000
DTEND:20260423T123000
SUMMARY:VI Marató de lectura per la llengua
LOCATION:Plaça Tiraval 
METHOD:PUBLISH
X-WR-CALNAME:baga@baga.cat
X-WR-TIMEZONE:Europe/Madrid
DESCRIPTION:
URI:https://www.baga.cat/actualitat/agenda/vi-marato-de-lectura-per-la-llengua.html
CLASS:PUBLIC
END:VEVENT
END:VCALENDAR
