BEGIN:VCALENDAR
VERSION:2.0
CALSCALE:GREGORIAN
PRODID:-//Diputació de Barcelona//DibaCMS//EN
BEGIN:VEVENT
UID:8761
DTSTAMP:20260421T005645
DTSTART:20260515T180000
DTEND:20260515T180000
SUMMARY:Bagà pel benestar
LOCATION:c/ Historiador Pere Tomic, 1 08695 Bagà
METHOD:PUBLISH
X-WR-CALNAME:baga@baga.cat
X-WR-TIMEZONE:Europe/Madrid
DESCRIPTION:
URI:https://www.baga.cat/actualitat/agenda/baga-pel-benestar.html
CLASS:PUBLIC
END:VEVENT
END:VCALENDAR
