BEGIN:VCALENDAR
VERSION:2.0
CALSCALE:GREGORIAN
PRODID:-//Diputació de Barcelona//DibaCMS//EN
BEGIN:VEVENT
UID:8756
DTSTAMP:20260420T154110
DTSTART:20260423T172000
DTEND:20260423T182000
SUMMARY:Jornada intergeneracional
LOCATION:c/ Historiador Pere Tomic, 1 08695 Bagà
METHOD:PUBLISH
X-WR-CALNAME:baga@baga.cat
X-WR-TIMEZONE:Europe/Madrid
DESCRIPTION:
URI:https://www.baga.cat/actualitat/agenda/jornada-intergeneracional.html
CLASS:PUBLIC
END:VEVENT
END:VCALENDAR
