BEGIN:VCALENDAR
VERSION:2.0
CALSCALE:GREGORIAN
PRODID:-//Diputació de Barcelona//DibaCMS//EN
BEGIN:VEVENT
UID:8708
DTSTAMP:20260421T115358
DTSTART:20260319T093000
DTEND:20260319T093000
SUMMARY:Tast de Raquetes de neu
LOCATION:
METHOD:PUBLISH
X-WR-CALNAME:baga@baga.cat
X-WR-TIMEZONE:Europe/Madrid
DESCRIPTION:
URI:https://www.baga.cat/actualitat/agenda/tast-de-raquetes-de-neu.html
CLASS:PUBLIC
END:VEVENT
END:VCALENDAR
