BEGIN:VCALENDAR
VERSION:2.0
CALSCALE:GREGORIAN
PRODID:-//Diputació de Barcelona//DibaCMS//EN
BEGIN:VEVENT
UID:8694
DTSTAMP:20260420T130602
DTSTART:20260208T000000
DTEND:20260208T000000
SUMMARY:Fira de l'Arròs 2026
LOCATION:
METHOD:PUBLISH
X-WR-CALNAME:baga@baga.cat
X-WR-TIMEZONE:Europe/Madrid
DESCRIPTION:
URI:https://www.baga.cat/actualitat/agenda/fira-de-larros-2026.html
CLASS:PUBLIC
END:VEVENT
END:VCALENDAR
