BEGIN:VCALENDAR
VERSION:2.0
CALSCALE:GREGORIAN
PRODID:-//Diputació de Barcelona//DibaCMS//EN
BEGIN:VEVENT
UID:8688
DTSTAMP:20260420T222040
DTSTART:20260124T190000
DTEND:20260124T190000
SUMMARY:Nit de l'esport 2026
LOCATION:Plaça Raval, 5 08695 Bagà
METHOD:PUBLISH
X-WR-CALNAME:baga@baga.cat
X-WR-TIMEZONE:Europe/Madrid
DESCRIPTION:
URI:https://www.baga.cat/actualitat/agenda/nit-de-lesport-2026.html
CLASS:PUBLIC
END:VEVENT
END:VCALENDAR
