BEGIN:VCALENDAR
VERSION:2.0
CALSCALE:GREGORIAN
PRODID:-//Diputació de Barcelona//DibaCMS//EN
BEGIN:VEVENT
UID:8676
DTSTAMP:20260420T221908
DTSTART:20251225T000000
DTEND:20260106T180000
SUMMARY:Els Pastorets
LOCATION:
METHOD:PUBLISH
X-WR-CALNAME:baga@baga.cat
X-WR-TIMEZONE:Europe/Madrid
DESCRIPTION:
URI:https://www.baga.cat/actualitat/agenda/8676-els-pastorets.html
CLASS:PUBLIC
END:VEVENT
END:VCALENDAR
