BEGIN:VCALENDAR
VERSION:2.0
CALSCALE:GREGORIAN
PRODID:-//Diputació de Barcelona//DibaCMS//EN
BEGIN:VEVENT
UID:8674
DTSTAMP:20260420T221839
DTSTART:20251229T100000
DTEND:20251229T210000
SUMMARY:Skinocent - Mercat de 2ª mà
LOCATION:
METHOD:PUBLISH
X-WR-CALNAME:baga@baga.cat
X-WR-TIMEZONE:Europe/Madrid
DESCRIPTION:
URI:https://www.baga.cat/actualitat/agenda/skinocent-mercat-de-2a-ma.html
CLASS:PUBLIC
END:VEVENT
END:VCALENDAR
