BEGIN:VCALENDAR
VERSION:2.0
CALSCALE:GREGORIAN
PRODID:-//Diputació de Barcelona//DibaCMS//EN
BEGIN:VEVENT
UID:8673
DTSTAMP:20260420T233753
DTSTART:20251229T160000
DTEND:20251229T200000
SUMMARY:Parc de Nadakl
LOCATION:
METHOD:PUBLISH
X-WR-CALNAME:baga@baga.cat
X-WR-TIMEZONE:Europe/Madrid
DESCRIPTION:
URI:https://www.baga.cat/actualitat/agenda/parc-de-nadakl.html
CLASS:PUBLIC
END:VEVENT
END:VCALENDAR
