BEGIN:VCALENDAR
VERSION:2.0
CALSCALE:GREGORIAN
PRODID:-//Diputació de Barcelona//DibaCMS//EN
BEGIN:VEVENT
UID:8670
DTSTAMP:20260421T133732
DTSTART:20260105T180000
DTEND:20260105T210000
SUMMARY:Cavalcada dels Reis Mags
LOCATION:18:00h Terradelles
19:00h Bagà 
METHOD:PUBLISH
X-WR-CALNAME:baga@baga.cat
X-WR-TIMEZONE:Europe/Madrid
DESCRIPTION:
URI:https://www.baga.cat/actualitat/agenda/8670-cavalcada-dels-reis-mags.html
CLASS:PUBLIC
END:VEVENT
END:VCALENDAR
