BEGIN:VCALENDAR
VERSION:2.0
CALSCALE:GREGORIAN
PRODID:-//Diputació de Barcelona//DibaCMS//EN
BEGIN:VEVENT
UID:8669
DTSTAMP:20260420T221625
DTSTART:20260104T123000
DTEND:20260104T143000
SUMMARY:Biodansa: L'estrella de Reis
LOCATION:Plaça Raval, 5 08695 Bagà
METHOD:PUBLISH
X-WR-CALNAME:baga@baga.cat
X-WR-TIMEZONE:Europe/Madrid
DESCRIPTION:
URI:https://www.baga.cat/actualitat/agenda/biodansa-lestrella-de-reis.html
CLASS:PUBLIC
END:VEVENT
END:VCALENDAR
