BEGIN:VCALENDAR
VERSION:2.0
CALSCALE:GREGORIAN
PRODID:-//Diputació de Barcelona//DibaCMS//EN
BEGIN:VEVENT
UID:8667
DTSTAMP:20260420T204433
DTSTART:20251231T000000
DTEND:20251231T000000
SUMMARY:V Cursa Sant Silvestre 
LOCATION:
METHOD:PUBLISH
X-WR-CALNAME:baga@baga.cat
X-WR-TIMEZONE:Europe/Madrid
DESCRIPTION:
URI:https://www.baga.cat/actualitat/agenda/v-cursa-sant-silvestre-.html
CLASS:PUBLIC
END:VEVENT
END:VCALENDAR
