BEGIN:VCALENDAR
VERSION:2.0
CALSCALE:GREGORIAN
PRODID:-//Diputació de Barcelona//DibaCMS//EN
BEGIN:VEVENT
UID:8665
DTSTAMP:20260420T223307
DTSTART:20251227T110000
DTEND:20251227T130000
SUMMARY:Arribada del Patge Reial
LOCATION:
METHOD:PUBLISH
X-WR-CALNAME:baga@baga.cat
X-WR-TIMEZONE:Europe/Madrid
DESCRIPTION:
URI:https://www.baga.cat/actualitat/agenda/8665-arribada-del-patge-reial.html
CLASS:PUBLIC
END:VEVENT
END:VCALENDAR
