BEGIN:VCALENDAR
VERSION:2.0
CALSCALE:GREGORIAN
PRODID:-//Diputació de Barcelona//DibaCMS//EN
BEGIN:VEVENT
UID:8661
DTSTAMP:20260420T221933
DTSTART:20251205T180000
DTEND:20251205T190000
SUMMARY:Taller d'autodefensa Feminista
LOCATION:Historiador Pere Tomic, 1 baixos 08695 Bagà
METHOD:PUBLISH
X-WR-CALNAME:baga@baga.cat
X-WR-TIMEZONE:Europe/Madrid
DESCRIPTION:
URI:https://www.baga.cat/actualitat/agenda/taller-dautodefensa-feminista.html
CLASS:PUBLIC
END:VEVENT
END:VCALENDAR
