BEGIN:VCALENDAR
VERSION:2.0
CALSCALE:GREGORIAN
PRODID:-//Diputació de Barcelona//DibaCMS//EN
BEGIN:VEVENT
UID:8660
DTSTAMP:20260420T221804
DTSTART:20251205T200000
DTEND:20251205T200000
SUMMARY:Encesa de llums de Nadal i concert
LOCATION:
METHOD:PUBLISH
X-WR-CALNAME:baga@baga.cat
X-WR-TIMEZONE:Europe/Madrid
DESCRIPTION:
URI:https://www.baga.cat/actualitat/agenda/encesa-de-llums-de-nadal-i-concert.html
CLASS:PUBLIC
END:VEVENT
END:VCALENDAR
