BEGIN:VCALENDAR
VERSION:2.0
CALSCALE:GREGORIAN
PRODID:-//Diputació de Barcelona//DibaCMS//EN
BEGIN:VEVENT
UID:8659
DTSTAMP:20260420T223512
DTSTART:20251224T000000
DTEND:20251224T000000
SUMMARY:Fia Faia
LOCATION:
METHOD:PUBLISH
X-WR-CALNAME:baga@baga.cat
X-WR-TIMEZONE:Europe/Madrid
DESCRIPTION:
URI:https://www.baga.cat/actualitat/agenda/8659-fia-faia.html
CLASS:PUBLIC
END:VEVENT
END:VCALENDAR
