BEGIN:VCALENDAR
VERSION:2.0
CALSCALE:GREGORIAN
PRODID:-//Diputació de Barcelona//DibaCMS//EN
BEGIN:VEVENT
UID:8658
DTSTAMP:20260421T024231
DTSTART:20251207T000000
DTEND:20251207T000000
SUMMARY:Tast d'escudella de blat de moro escairat
LOCATION:Plaça del Raval 
METHOD:PUBLISH
X-WR-CALNAME:baga@baga.cat
X-WR-TIMEZONE:Europe/Madrid
DESCRIPTION:
URI:https://www.baga.cat/actualitat/agenda/tast-descudella-de-blat-de-moro-escairat.html
CLASS:PUBLIC
END:VEVENT
END:VCALENDAR
