BEGIN:VCALENDAR
VERSION:2.0
CALSCALE:GREGORIAN
PRODID:-//Diputació de Barcelona//DibaCMS//EN
BEGIN:VEVENT
UID:8657
DTSTAMP:20260420T234754
DTSTART:20251218T100000
DTEND:20251220T200000
SUMMARY:Pista de gel
LOCATION:Plaça Galceran de Pinós 08695 Bagà
METHOD:PUBLISH
X-WR-CALNAME:baga@baga.cat
X-WR-TIMEZONE:Europe/Madrid
DESCRIPTION:
URI:https://www.baga.cat/actualitat/agenda/pista-de-gel.html
CLASS:PUBLIC
END:VEVENT
END:VCALENDAR
