BEGIN:VCALENDAR
VERSION:2.0
CALSCALE:GREGORIAN
PRODID:-//Diputació de Barcelona//DibaCMS//EN
BEGIN:VEVENT
UID:8648
DTSTAMP:20260420T155542
DTSTART:20251127T000000
DTEND:20251127T000000
SUMMARY:Commemoració 10è aniversari Fia-Faia com a Patrimoni Cultural i Immaterial de la Unesco
LOCATION:
METHOD:PUBLISH
X-WR-CALNAME:baga@baga.cat
X-WR-TIMEZONE:Europe/Madrid
DESCRIPTION:
URI:https://www.baga.cat/actualitat/agenda/commemoracio-10e-aniversari-fia-faia-com-a-patrimoni-cultural-i-immaterial-de-la-unesco.html
CLASS:PUBLIC
END:VEVENT
END:VCALENDAR
