BEGIN:VCALENDAR
VERSION:2.0
CALSCALE:GREGORIAN
PRODID:-//Diputació de Barcelona//DibaCMS//EN
BEGIN:VEVENT
UID:8639
DTSTAMP:20260420T163653
DTSTART:20251128T181500
DTEND:20251128T200000
SUMMARY:Reconecta amb el teu cos
LOCATION:
METHOD:PUBLISH
X-WR-CALNAME:baga@baga.cat
X-WR-TIMEZONE:Europe/Madrid
DESCRIPTION:
URI:https://www.baga.cat/actualitat/agenda/reconecta-amb-el-teu-cos.html
CLASS:PUBLIC
END:VEVENT
END:VCALENDAR
