BEGIN:VCALENDAR
VERSION:2.0
CALSCALE:GREGORIAN
PRODID:-//Diputació de Barcelona//DibaCMS//EN
BEGIN:VEVENT
UID:8637
DTSTAMP:20260420T223220
DTSTART:20251204T100000
DTEND:20251204T160000
SUMMARY:Caminada saludable + Dinar de Nadal
LOCATION:
METHOD:PUBLISH
X-WR-CALNAME:baga@baga.cat
X-WR-TIMEZONE:Europe/Madrid
DESCRIPTION:
URI:https://www.baga.cat/actualitat/agenda/8637-caminada-saludable--dinar-de-nadal.html
CLASS:PUBLIC
END:VEVENT
END:VCALENDAR
