BEGIN:VCALENDAR
VERSION:2.0
CALSCALE:GREGORIAN
PRODID:-//Diputació de Barcelona//DibaCMS//EN
BEGIN:VEVENT
UID:8636
DTSTAMP:20260420T145155
DTSTART:20251120T000000
DTEND:20251120T000000
SUMMARY:Dia mundial dels drets de la infància
LOCATION:
METHOD:PUBLISH
X-WR-CALNAME:baga@baga.cat
X-WR-TIMEZONE:Europe/Madrid
DESCRIPTION:
URI:https://www.baga.cat/actualitat/agenda/dia-mundial-dels-drets-de-la-infancia.html
CLASS:PUBLIC
END:VEVENT
END:VCALENDAR
