BEGIN:VCALENDAR
VERSION:2.0
CALSCALE:GREGORIAN
PRODID:-//Diputació de Barcelona//DibaCMS//EN
BEGIN:VEVENT
UID:8635
DTSTAMP:20260420T174736
DTSTART:20251123T000000
DTEND:20251123T000000
SUMMARY:Compartim espais segurs a Bagà
LOCATION:
METHOD:PUBLISH
X-WR-CALNAME:baga@baga.cat
X-WR-TIMEZONE:Europe/Madrid
DESCRIPTION:
URI:https://www.baga.cat/actualitat/agenda/compartim-espais-segurs-a-baga.html
CLASS:PUBLIC
END:VEVENT
END:VCALENDAR
