BEGIN:VCALENDAR
VERSION:2.0
CALSCALE:GREGORIAN
PRODID:-//Diputació de Barcelona//DibaCMS//EN
BEGIN:VEVENT
UID:8624
DTSTAMP:20260420T101820
DTSTART:20251102T100000
DTEND:20251102T100000
SUMMARY:Esmorzar Popular
LOCATION:Passeig del Raval 
METHOD:PUBLISH
X-WR-CALNAME:baga@baga.cat
X-WR-TIMEZONE:Europe/Madrid
DESCRIPTION:
URI:https://www.baga.cat/actualitat/agenda/esmorzar-popular.html
CLASS:PUBLIC
END:VEVENT
END:VCALENDAR
