BEGIN:VCALENDAR
VERSION:2.0
CALSCALE:GREGORIAN
PRODID:-//Diputació de Barcelona//DibaCMS//EN
BEGIN:VEVENT
UID:8619
DTSTAMP:20260420T181116
DTSTART:20251031T173000
DTEND:20251031T183000
SUMMARY:Presentació del llibre del projecte Betula
LOCATION:Pujada a Palau, 7 08695 Bagà
METHOD:PUBLISH
X-WR-CALNAME:baga@baga.cat
X-WR-TIMEZONE:Europe/Madrid
DESCRIPTION:
URI:https://www.baga.cat/actualitat/agenda/presentacio-del-llibre-del-projecte-betula.html
CLASS:PUBLIC
END:VEVENT
END:VCALENDAR
