BEGIN:VCALENDAR
VERSION:2.0
CALSCALE:GREGORIAN
PRODID:-//Diputació de Barcelona//DibaCMS//EN
BEGIN:VEVENT
UID:8618
DTSTAMP:20260420T181349
DTSTART:20251031T210000
DTEND:20251031T220000
SUMMARY:Sopar CastaHalloween
LOCATION:Plaça Galceran de Pinós 08695 Bagà
METHOD:PUBLISH
X-WR-CALNAME:baga@baga.cat
X-WR-TIMEZONE:Europe/Madrid
DESCRIPTION:
URI:https://www.baga.cat/actualitat/agenda/sopar-castahalloween.html
CLASS:PUBLIC
END:VEVENT
END:VCALENDAR
