BEGIN:VCALENDAR
VERSION:2.0
CALSCALE:GREGORIAN
PRODID:-//Diputació de Barcelona//DibaCMS//EN
BEGIN:VEVENT
UID:8617
DTSTAMP:20260420T174936
DTSTART:20251107T190000
DTEND:20251107T200000
SUMMARY:Presentació a Bagà: Històries de la Patum
LOCATION:Plaça Raval, 5 08695 Bagà
METHOD:PUBLISH
X-WR-CALNAME:baga@baga.cat
X-WR-TIMEZONE:Europe/Madrid
DESCRIPTION:
URI:https://www.baga.cat/actualitat/agenda/presentacio-a-baga-histories-de-la-patum.html
CLASS:PUBLIC
END:VEVENT
END:VCALENDAR
