BEGIN:VCALENDAR
VERSION:2.0
CALSCALE:GREGORIAN
PRODID:-//Diputació de Barcelona//DibaCMS//EN
BEGIN:VEVENT
UID:8616
DTSTAMP:20260420T172422
DTSTART:20251102T180000
DTEND:20251102T190000
SUMMARY:Presentació del llibre de Roser Comas Angelet
LOCATION:Pujada a Palau, 7 08695 Bagà
METHOD:PUBLISH
X-WR-CALNAME:baga@baga.cat
X-WR-TIMEZONE:Europe/Madrid
DESCRIPTION:
URI:https://www.baga.cat/actualitat/agenda/presentacio-del-llibre-de-roser-comas-angelet.html
CLASS:PUBLIC
END:VEVENT
END:VCALENDAR
