BEGIN:VCALENDAR
VERSION:2.0
CALSCALE:GREGORIAN
PRODID:-//Diputació de Barcelona//DibaCMS//EN
BEGIN:VEVENT
UID:8610
DTSTAMP:20260420T161511
DTSTART:20251127T000000
DTEND:20251127T000000
SUMMARY:Festa aniversari gent gran
LOCATION:Club Sant Jordi 
METHOD:PUBLISH
X-WR-CALNAME:baga@baga.cat
X-WR-TIMEZONE:Europe/Madrid
DESCRIPTION:
URI:https://www.baga.cat/actualitat/agenda/8610-festa-aniversari-gent-gran.html
CLASS:PUBLIC
END:VEVENT
END:VCALENDAR
