BEGIN:VCALENDAR
VERSION:2.0
CALSCALE:GREGORIAN
PRODID:-//Diputació de Barcelona//DibaCMS//EN
BEGIN:VEVENT
UID:8608
DTSTAMP:20260420T180123
DTSTART:20251031T190000
DTEND:20251031T230000
SUMMARY:CastaHalloween
LOCATION:
METHOD:PUBLISH
X-WR-CALNAME:baga@baga.cat
X-WR-TIMEZONE:Europe/Madrid
DESCRIPTION:
URI:https://www.baga.cat/actualitat/agenda/castahalloween.html
CLASS:PUBLIC
END:VEVENT
END:VCALENDAR
