BEGIN:VCALENDAR
VERSION:2.0
CALSCALE:GREGORIAN
PRODID:-//Diputació de Barcelona//DibaCMS//EN
BEGIN:VEVENT
UID:8607
DTSTAMP:20260420T180711
DTSTART:20251026T000000
DTEND:20251026T000000
SUMMARY:Costa Pubilla des de Montgrony
LOCATION:
METHOD:PUBLISH
X-WR-CALNAME:baga@baga.cat
X-WR-TIMEZONE:Europe/Madrid
DESCRIPTION:
URI:https://www.baga.cat/actualitat/agenda/costa-pubilla-des-de-montgrony.html
CLASS:PUBLIC
END:VEVENT
END:VCALENDAR
