BEGIN:VCALENDAR
VERSION:2.0
CALSCALE:GREGORIAN
PRODID:-//Diputació de Barcelona//DibaCMS//EN
BEGIN:VEVENT
UID:8604
DTSTAMP:20260420T164320
DTSTART:20251013T000000
DTEND:20251101T000000
SUMMARY:Vine a recollir el material!
LOCATION:
METHOD:PUBLISH
X-WR-CALNAME:baga@baga.cat
X-WR-TIMEZONE:Europe/Madrid
DESCRIPTION:
URI:https://www.baga.cat/actualitat/agenda/vine-a-recollir-el-material.html
CLASS:PUBLIC
END:VEVENT
END:VCALENDAR
