BEGIN:VCALENDAR
VERSION:2.0
CALSCALE:GREGORIAN
PRODID:-//Diputació de Barcelona//DibaCMS//EN
BEGIN:VEVENT
UID:8603
DTSTAMP:20260420T164348
DTSTART:20251020T000000
DTEND:20251020T000000
SUMMARY:Activitats xarxes socials, límits i fills
LOCATION:
METHOD:PUBLISH
X-WR-CALNAME:baga@baga.cat
X-WR-TIMEZONE:Europe/Madrid
DESCRIPTION:
URI:https://www.baga.cat/actualitat/agenda/activitats-xarxes-socials-limits-i-fills.html
CLASS:PUBLIC
END:VEVENT
END:VCALENDAR
