BEGIN:VCALENDAR
VERSION:2.0
CALSCALE:GREGORIAN
PRODID:-//Diputació de Barcelona//DibaCMS//EN
BEGIN:VEVENT
UID:8582
DTSTAMP:20260420T150230
DTSTART:20251004T000000
DTEND:20251004T000000
SUMMARY:Ultrapirineu 2025 Xocolatada per a tothom!
LOCATION:
METHOD:PUBLISH
X-WR-CALNAME:baga@baga.cat
X-WR-TIMEZONE:Europe/Madrid
DESCRIPTION:
URI:https://www.baga.cat/actualitat/agenda/ultrapirineu-2025-xocolatada-per-a-tothom.html
CLASS:PUBLIC
END:VEVENT
END:VCALENDAR
