BEGIN:VCALENDAR
VERSION:2.0
CALSCALE:GREGORIAN
PRODID:-//Diputació de Barcelona//DibaCMS//EN
BEGIN:VEVENT
UID:8576
DTSTAMP:20260420T164210
DTSTART:20250920T110000
DTEND:20250920T110000
SUMMARY:II Concurs de gossos petaners del Berguedà
LOCATION:
METHOD:PUBLISH
X-WR-CALNAME:baga@baga.cat
X-WR-TIMEZONE:Europe/Madrid
DESCRIPTION:
URI:https://www.baga.cat/actualitat/agenda/ii-concurs-de-gossos-petaners-del-bergueda.html
CLASS:PUBLIC
END:VEVENT
END:VCALENDAR
