BEGIN:VCALENDAR
VERSION:2.0
CALSCALE:GREGORIAN
PRODID:-//Diputació de Barcelona//DibaCMS//EN
BEGIN:VEVENT
UID:8575
DTSTAMP:20260420T150005
DTSTART:20250913T173000
DTEND:20250913T233000
SUMMARY:Nomenament dels Barons de les Festes
LOCATION:
METHOD:PUBLISH
X-WR-CALNAME:baga@baga.cat
X-WR-TIMEZONE:Europe/Madrid
DESCRIPTION:
URI:https://www.baga.cat/actualitat/agenda/nomenament-dels-barons-de-les-festes.html
CLASS:PUBLIC
END:VEVENT
END:VCALENDAR
