BEGIN:VCALENDAR
VERSION:2.0
CALSCALE:GREGORIAN
PRODID:-//Diputació de Barcelona//DibaCMS//EN
BEGIN:VEVENT
UID:8573
DTSTAMP:20260420T162841
DTSTART:20250917T100000
DTEND:20250917T130000
SUMMARY:Punt mòbil T-mobilitat
LOCATION:Plaça Catalunya 
METHOD:PUBLISH
X-WR-CALNAME:baga@baga.cat
X-WR-TIMEZONE:Europe/Madrid
DESCRIPTION:
URI:https://www.baga.cat/actualitat/agenda/punt-mobil-t-mobilitat.html
CLASS:PUBLIC
END:VEVENT
END:VCALENDAR
