BEGIN:VCALENDAR
VERSION:2.0
CALSCALE:GREGORIAN
PRODID:-//Diputació de Barcelona//DibaCMS//EN
BEGIN:VEVENT
UID:8570
DTSTAMP:20260420T191739
DTSTART:20250914T000000
DTEND:20250914T000000
SUMMARY:Aplec de Paller 
LOCATION:
METHOD:PUBLISH
X-WR-CALNAME:baga@baga.cat
X-WR-TIMEZONE:Europe/Madrid
DESCRIPTION:
URI:https://www.baga.cat/actualitat/agenda/aplec-de-paller-.html
CLASS:PUBLIC
END:VEVENT
END:VCALENDAR
