BEGIN:VCALENDAR
VERSION:2.0
CALSCALE:GREGORIAN
PRODID:-//Diputació de Barcelona//DibaCMS//EN
BEGIN:VEVENT
UID:8568
DTSTAMP:20260420T150043
DTSTART:20250911T120000
DTEND:20250911T120000
SUMMARY:Diada Nacional de Catalunya a Terradelles
LOCATION:
METHOD:PUBLISH
X-WR-CALNAME:baga@baga.cat
X-WR-TIMEZONE:Europe/Madrid
DESCRIPTION:
URI:https://www.baga.cat/actualitat/agenda/diada-nacional-de-catalunya-a-terradelles.html
CLASS:PUBLIC
END:VEVENT
END:VCALENDAR
