BEGIN:VCALENDAR
VERSION:2.0
CALSCALE:GREGORIAN
PRODID:-//Diputació de Barcelona//DibaCMS//EN
BEGIN:VEVENT
UID:8563
DTSTAMP:20260420T145907
DTSTART:20250911T200000
DTEND:20250911T220000
SUMMARY:TEATRE : Els darrers dies de la Catalunya Republicana
LOCATION:Plaça Raval, 5 08695 Bagà
METHOD:PUBLISH
X-WR-CALNAME:baga@baga.cat
X-WR-TIMEZONE:Europe/Madrid
DESCRIPTION:
URI:https://www.baga.cat/actualitat/agenda/teatre--els-darrers-dies-de-la-catalunya-republicana.html
CLASS:PUBLIC
END:VEVENT
END:VCALENDAR
