BEGIN:VCALENDAR
VERSION:2.0
CALSCALE:GREGORIAN
PRODID:-//Diputació de Barcelona//DibaCMS//EN
BEGIN:VEVENT
UID:8553
DTSTAMP:20260420T174658
DTSTART:20250815T193000
DTEND:20250815T193000
SUMMARY:Els Guerrers a L'Edat Mitjana
LOCATION:Plaça Catalunya 
METHOD:PUBLISH
X-WR-CALNAME:baga@baga.cat
X-WR-TIMEZONE:Europe/Madrid
DESCRIPTION:
URI:https://www.baga.cat/actualitat/agenda/els-guerrers-a-ledat-mitjana.html
CLASS:PUBLIC
END:VEVENT
END:VCALENDAR
