BEGIN:VCALENDAR
VERSION:2.0
CALSCALE:GREGORIAN
PRODID:-//Diputació de Barcelona//DibaCMS//EN
BEGIN:VEVENT
UID:8549
DTSTAMP:20260420T174806
DTSTART:20250823T000000
DTEND:20250823T000000
SUMMARY:Englanta't Bagà
LOCATION:
METHOD:PUBLISH
X-WR-CALNAME:baga@baga.cat
X-WR-TIMEZONE:Europe/Madrid
DESCRIPTION:
URI:https://www.baga.cat/actualitat/agenda/englantat-baga.html
CLASS:PUBLIC
END:VEVENT
END:VCALENDAR
