BEGIN:VCALENDAR
VERSION:2.0
CALSCALE:GREGORIAN
PRODID:-//Diputació de Barcelona//DibaCMS//EN
BEGIN:VEVENT
UID:8541
DTSTAMP:20260420T192628
DTSTART:20250809T000000
DTEND:20250809T000000
SUMMARY:Enfanguem-nos. Taller de ceramica
LOCATION:Pujada a Palau, 7 08695 Bagà
METHOD:PUBLISH
X-WR-CALNAME:baga@baga.cat
X-WR-TIMEZONE:Europe/Madrid
DESCRIPTION:
URI:https://www.baga.cat/actualitat/agenda/enfanguem-nos-taller-de-ceramica.html
CLASS:PUBLIC
END:VEVENT
END:VCALENDAR
