BEGIN:VCALENDAR
VERSION:2.0
CALSCALE:GREGORIAN
PRODID:-//Diputació de Barcelona//DibaCMS//EN
BEGIN:VEVENT
UID:8540
DTSTAMP:20260420T192834
DTSTART:20250809T000000
DTEND:20250809T000000
SUMMARY:Mercat Gourmand
LOCATION:Plaça Catalunya 
METHOD:PUBLISH
X-WR-CALNAME:baga@baga.cat
X-WR-TIMEZONE:Europe/Madrid
DESCRIPTION:
URI:https://www.baga.cat/actualitat/agenda/8540-mercat-gourmand.html
CLASS:PUBLIC
END:VEVENT
END:VCALENDAR
