BEGIN:VCALENDAR
VERSION:2.0
CALSCALE:GREGORIAN
PRODID:-//Diputació de Barcelona//DibaCMS//EN
BEGIN:VEVENT
UID:8537
DTSTAMP:20260420T192541
DTSTART:20250815T180000
DTEND:20250815T200000
SUMMARY:Aplec de Santa Maria del Castell
LOCATION:Pujada a Palau, 7 08695 Bagà
METHOD:PUBLISH
X-WR-CALNAME:baga@baga.cat
X-WR-TIMEZONE:Europe/Madrid
DESCRIPTION:
URI:https://www.baga.cat/actualitat/agenda/aplec-de-santa-maria-del-castell.html
CLASS:PUBLIC
END:VEVENT
END:VCALENDAR
