BEGIN:VCALENDAR
VERSION:2.0
CALSCALE:GREGORIAN
PRODID:-//Diputació de Barcelona//DibaCMS//EN
BEGIN:VEVENT
UID:8536
DTSTAMP:20260420T193013
DTSTART:20250805T000000
DTEND:20250805T000000
SUMMARY:Classe Aquagym
LOCATION:Passeig Bastareny, s/n 08695 Bagà
METHOD:PUBLISH
X-WR-CALNAME:baga@baga.cat
X-WR-TIMEZONE:Europe/Madrid
DESCRIPTION:
URI:https://www.baga.cat/actualitat/agenda/classe-aquagym.html
CLASS:PUBLIC
END:VEVENT
END:VCALENDAR
