BEGIN:VCALENDAR
VERSION:2.0
CALSCALE:GREGORIAN
PRODID:-//Diputació de Barcelona//DibaCMS//EN
BEGIN:VEVENT
UID:8533
DTSTAMP:20260420T193024
DTSTART:20250804T000000
DTEND:20250804T000000
SUMMARY:Havaneres -  Son de l'Havana
LOCATION:Plaça Tiraval 
METHOD:PUBLISH
X-WR-CALNAME:baga@baga.cat
X-WR-TIMEZONE:Europe/Madrid
DESCRIPTION:
URI:https://www.baga.cat/actualitat/agenda/havaneres-son-de-lhavana.html
CLASS:PUBLIC
END:VEVENT
END:VCALENDAR
