BEGIN:VCALENDAR
VERSION:2.0
CALSCALE:GREGORIAN
PRODID:-//Diputació de Barcelona//DibaCMS//EN
BEGIN:VEVENT
UID:8532
DTSTAMP:20260421T000857
DTSTART:20250731T213000
DTEND:20250731T213000
SUMMARY:Sopar - Ball de Festa Major
LOCATION:Passeig de Gibellàs, 1 08695 Bagà
METHOD:PUBLISH
X-WR-CALNAME:baga@baga.cat
X-WR-TIMEZONE:Europe/Madrid
DESCRIPTION:
URI:https://www.baga.cat/actualitat/agenda/sopar-ball-de-festa-major.html
CLASS:PUBLIC
END:VEVENT
END:VCALENDAR
