BEGIN:VCALENDAR
VERSION:2.0
CALSCALE:GREGORIAN
PRODID:-//Diputació de Barcelona//DibaCMS//EN
BEGIN:VEVENT
UID:8522
DTSTAMP:20260421T134519
DTSTART:20250729T000000
DTEND:20250729T000000
SUMMARY:Festa Major Bagà 2025 
LOCATION:
METHOD:PUBLISH
X-WR-CALNAME:baga@baga.cat
X-WR-TIMEZONE:Europe/Madrid
DESCRIPTION:
URI:https://www.baga.cat/actualitat/agenda/festa-major-baga-2025-.html
CLASS:PUBLIC
END:VEVENT
END:VCALENDAR
