BEGIN:VCALENDAR
VERSION:2.0
CALSCALE:GREGORIAN
PRODID:-//Diputació de Barcelona//DibaCMS//EN
BEGIN:VEVENT
UID:8519
DTSTAMP:20260420T225721
DTSTART:20250729T090000
DTEND:20250729T100000
SUMMARY:Viu l'estiu a l'Alt Berguedà - Ioga
LOCATION:Passeig Bastareny, s/n 08695 Bagà
METHOD:PUBLISH
X-WR-CALNAME:baga@baga.cat
X-WR-TIMEZONE:Europe/Madrid
DESCRIPTION:
URI:https://www.baga.cat/actualitat/agenda/viu-lestiu-a-lalt-bergueda-ioga.html
CLASS:PUBLIC
END:VEVENT
END:VCALENDAR
